{ "currentVersion": 10.91, "serviceDescription": "
This 2015 Digital Surface Model Elevation Product has been provided by USGS and is hosted as an image service by Louisiana DOTD. This service has a spatial resolution of approximately 1-Meter(s) and an extent covering Gulf Islands areas of interest. The source data for this service has horizontal coordinate system 'NAD 1983 UTM Zone 15N (EPSG: 26915)' and vertical coordinate system 'NAVD 1988 (EPSG: 5703)'. The source data is in TIF format. The no data value for this data is -999. The source data bit depth is 32-Bit Floating Point. This data is not available for download. In 2015, Digital Aerial Solutions, LLC (DAS) was tasked by USGS to collect and process a Lidar derived elevation dataset for South Terrebonne and Gulf Islands. The South Terrebonne and Gulf Islands LiDAR survey encompasses approximately 2093 square miles. LiDAR data collected for the South Terrebonne and Gulf Islands survey area has a nominal pulse spacing of 0.7 meters.<\/span><\/p> <\/p> For more information on this data please visit https://atlas.ga.lsu.edu/category/datasets/<\/span><\/p> <\/p> This data has been developed from the best available sources to ensure accuracy and reliability; however, the entire risk as to the quality and performance of the data is assumed by the user. The data herein, including but not limited to geographic data, tabular data, analytical data, electronic data structures or files, are provided 'as is' without warranty of any kind, either expressed or implied, including, but not limited to, the implied warranties of merchantability and fitness for a particular purpose. In no event shall the LADOTD be liable for direct, indirect, incidental, consequential or specific damages of any kind, including, but not limited to, loss of anticipated profits or benefits arising out of use of or reliance on the data. The user should refer to the accompanying metadata notes for a description of the data and data development procedures. The data may not be suitable for all high-precision measurement applications such as property transfers or other uses that might require highly accurate measurements of the earth's surface. Distribution of the data is intended for informational purposes and should not be considered authoritative for navigational, engineering, legal or other site-specific uses. The data is provided free to use in any product or publication, however no warranty, expressed or implied is made with regard to the accuracy of data or the spatial accuracy, and LADOTD accepts no liability for any damages or misrepresentation caused by inaccuracies in the data or as a result of changes to the data caused by system transfers or other transformations or conversions, nor is there responsibility assumed to maintain the data in any manner or form.<\/span><\/p><\/div><\/div><\/div>",
"name": "Elevation/2015_GulfIslands_1M_DSM",
"description": " This 2015 Digital Surface Model Elevation Product has been provided by USGS and is hosted as an image service by Louisiana DOTD. This service has a spatial resolution of approximately 1-Meter(s) and an extent covering Gulf Islands areas of interest. The source data for this service has horizontal coordinate system 'NAD 1983 UTM Zone 15N (EPSG: 26915)' and vertical coordinate system 'NAVD 1988 (EPSG: 5703)'. The source data is in TIF format. The no data value for this data is -999. The source data bit depth is 32-Bit Floating Point. This data is not available for download. In 2015, Digital Aerial Solutions, LLC (DAS) was tasked by USGS to collect and process a Lidar derived elevation dataset for South Terrebonne and Gulf Islands. The South Terrebonne and Gulf Islands LiDAR survey encompasses approximately 2093 square miles. LiDAR data collected for the South Terrebonne and Gulf Islands survey area has a nominal pulse spacing of 0.7 meters.<\/span><\/p> <\/p> For more information on this data please visit https://atlas.ga.lsu.edu/category/datasets/<\/span><\/p> <\/p> This data has been developed from the best available sources to ensure accuracy and reliability; however, the entire risk as to the quality and performance of the data is assumed by the user. The data herein, including but not limited to geographic data, tabular data, analytical data, electronic data structures or files, are provided 'as is' without warranty of any kind, either expressed or implied, including, but not limited to, the implied warranties of merchantability and fitness for a particular purpose. In no event shall the LADOTD be liable for direct, indirect, incidental, consequential or specific damages of any kind, including, but not limited to, loss of anticipated profits or benefits arising out of use of or reliance on the data. The user should refer to the accompanying metadata notes for a description of the data and data development procedures. The data may not be suitable for all high-precision measurement applications such as property transfers or other uses that might require highly accurate measurements of the earth's surface. Distribution of the data is intended for informational purposes and should not be considered authoritative for navigational, engineering, legal or other site-specific uses. The data is provided free to use in any product or publication, however no warranty, expressed or implied is made with regard to the accuracy of data or the spatial accuracy, and LADOTD accepts no liability for any damages or misrepresentation caused by inaccuracies in the data or as a result of changes to the data caused by system transfers or other transformations or conversions, nor is there responsibility assumed to maintain the data in any manner or form.<\/span><\/p><\/div><\/div><\/div>",
"extent": {
"xmin": -1.01696551673E7,
"ymin": 3380873.206600003,
"xmax": -9803660.1673,
"ymax": 3540637.206600003,
"spatialReference": {
"wkid": 102100,
"latestWkid": 3857
}
},
"initialExtent": {
"xmin": -1.01696551673E7,
"ymin": 3380873.206600003,
"xmax": -9803660.1673,
"ymax": 3540637.206600003,
"spatialReference": {
"wkid": 102100,
"latestWkid": 3857
}
},
"fullExtent": {
"xmin": -1.01696551673E7,
"ymin": 3380873.206600003,
"xmax": -9803660.1673,
"ymax": 3540637.206600003,
"spatialReference": {
"wkid": 102100,
"latestWkid": 3857
}
},
"hasMultidimensions": false,
"timeInfo": {
"startTimeField": "START_DATE",
"endTimeField": "END_DATE",
"timeExtent": [
1420070400000,
1420070400000
],
"timeReference": null,
"defaultTimeInterval": 1,
"defaultTimeIntervalUnits": "esriTimeUnitsYears"
},
"pixelSizeX": 1,
"pixelSizeY": 1,
"datasetFormat": "AMD",
"uncompressedSize": 233891300720,
"blockWidth": 2048,
"blockHeight": 256,
"compressionType": "None",
"bandNames": [
"Band_1"
],
"allowCopy": true,
"allowAnalysis": true,
"bandCount": 1,
"pixelType": "F32",
"minPixelSize": 0,
"maxPixelSize": 0,
"copyrightText": "Data originally published by LSU CADGIS.",
"serviceDataType": "esriImageServiceDataTypeGeneric",
"serviceSourceType": "esriImageServiceSourceTypeMosaicDataset",
"minValues": [
-6.799784183502197
],
"maxValues": [
275.2207336425781
],
"meanValues": [
1.305704298012989
],
"stdvValues": [
3.876015466214342
],
"objectIdField": "OBJECTID",
"fields": [
{
"name": "OBJECTID",
"type": "esriFieldTypeOID",
"alias": "OBJECTID",
"domain": null
},
{
"name": "Shape",
"type": "esriFieldTypeGeometry",
"alias": "Shape",
"domain": null
},
{
"name": "Name",
"type": "esriFieldTypeString",
"alias": "Name",
"domain": null,
"length": 200
},
{
"name": "Category",
"type": "esriFieldTypeInteger",
"alias": "Category",
"domain": {
"type": "codedValue",
"name": "MosaicCatalogItemCategoryDomain",
"description": "Catalog item categories.",
"codedValues": [
{
"name": "Unknown",
"code": 0
},
{
"name": "Primary",
"code": 1
},
{
"name": "Overview",
"code": 2
},
{
"name": "Unprocessed Overview",
"code": 3
},
{
"name": "Partial Overview",
"code": 4
},
{
"name": "Inactive",
"code": 5
},
{
"name": "Uploaded",
"code": 253
},
{
"name": "Incomplete",
"code": 254
},
{
"name": "Custom",
"code": 255
}
],
"mergePolicy": "esriMPTDefaultValue",
"splitPolicy": "esriSPTDefaultValue"
}
},
{
"name": "USNG",
"type": "esriFieldTypeString",
"alias": "USNG",
"domain": null,
"length": 15
},
{
"name": "BLOCK",
"type": "esriFieldTypeSmallInteger",
"alias": "Block Number",
"domain": null
},
{
"name": "QUARTER",
"type": "esriFieldTypeString",
"alias": "Block Quarter",
"domain": null,
"length": 3
},
{
"name": "BLOCK_ID",
"type": "esriFieldTypeString",
"alias": "Block Name",
"domain": null,
"length": 6
},
{
"name": "MUNICIPALITY",
"type": "esriFieldTypeString",
"alias": "Municipality",
"domain": null,
"length": 100
},
{
"name": "PLANNING_AREA_NAME",
"type": "esriFieldTypeString",
"alias": "Metropolitan Planning Area",
"domain": null,
"length": 30
},
{
"name": "PLANNING_AREA_FIPS",
"type": "esriFieldTypeString",
"alias": "Metropolitan Planning Area FIPS",
"domain": null,
"length": 5
},
{
"name": "PARISH",
"type": "esriFieldTypeString",
"alias": "Parish",
"domain": null,
"length": 32
},
{
"name": "PARISH_FIPS",
"type": "esriFieldTypeString",
"alias": "Parish FIPS",
"domain": null,
"length": 3
},
{
"name": "DOTD_DISTRICT",
"type": "esriFieldTypeString",
"alias": "DOTD District",
"domain": null,
"length": 2
},
{
"name": "REGION",
"type": "esriFieldTypeString",
"alias": "Region",
"domain": null,
"length": 50
},
{
"name": "STATE",
"type": "esriFieldTypeString",
"alias": "State",
"domain": null,
"length": 35
},
{
"name": "START_DATE",
"type": "esriFieldTypeString",
"alias": "Collection Date Start",
"domain": null,
"length": 10
},
{
"name": "END_DATE",
"type": "esriFieldTypeString",
"alias": "Collection Date End",
"domain": null,
"length": 10
},
{
"name": "CREDITS",
"type": "esriFieldTypeString",
"alias": "Credits",
"domain": null,
"length": 100
},
{
"name": "RESTRICTIONS",
"type": "esriFieldTypeString",
"alias": "Restrictions",
"domain": null,
"length": 255
},
{
"name": "Y2015QL2P102_URL",
"type": "esriFieldTypeString",
"alias": "2015 Gulf Islands 1-Meter Digital Surface Model URL",
"domain": null,
"length": 255
},
{
"name": "Y2015QL2P102_ID",
"type": "esriFieldTypeInteger",
"alias": "2015 Gulf Islands 1-Meter Digital Surface Model ID",
"domain": null
}
],
"capabilities": "Catalog,Mensuration,Download,Image,Metadata",
"defaultMosaicMethod": "Northwest",
"allowedMosaicMethods": "NorthWest,Center,LockRaster,ByAttribute,Nadir,Viewpoint,Seamline,None",
"sortField": "",
"sortValue": null,
"sortAscending": true,
"mosaicOperator": "First",
"maxDownloadSizeLimit": 10240,
"defaultCompressionQuality": 75,
"defaultResamplingMethod": "Bilinear",
"maxImageHeight": 4100,
"maxImageWidth": 15000,
"maxRecordCount": 1000,
"maxDownloadImageCount": 10,
"maxMosaicImageCount": 20,
"allowRasterFunction": true,
"rasterFunctionInfos": [
{
"name": "None",
"description": "Make a Raster or Raster Dataset into a Function Raster Dataset.",
"help": ""
}
],
"rasterTypeInfos": [
{
"name": "Raster Dataset",
"description": "Supports all ArcGIS Raster Datasets",
"help": ""
}
],
"mensurationCapabilities": "Basic",
"hasHistograms": true,
"hasColormap": false,
"hasRasterAttributeTable": false,
"minScale": 0,
"maxScale": 0,
"exportTilesAllowed": false,
"supportsStatistics": true,
"supportsAdvancedQueries": true,
"editFieldsInfo": null,
"ownershipBasedAccessControlForRasters": null,
"allowComputeTiePoints": false,
"useStandardizedQueries": true,
"advancedQueryCapabilities": {
"useStandardizedQueries": true,
"supportsStatistics": true,
"supportsOrderBy": true,
"supportsDistinct": true,
"supportsPagination": true
},
"spatialReference": {
"wkid": 102100,
"latestWkid": 3857
}
}