{
 "currentVersion": 10.91,
 "serviceDescription": "Elevation/2018_SabineRiver_1M_DEM",
 "name": "Elevation/2018_SabineRiver_1M_DEM",
 "description": "",
 "extent": {
  "xmin": -1.04696484996E7,
  "ymin": 3509850.5273,
  "xmax": -1.02493139996E7,
  "ymax": 3898420.0273,
  "spatialReference": {
   "wkid": 102100,
   "latestWkid": 3857
  }
 },
 "initialExtent": {
  "xmin": -1.04696484996E7,
  "ymin": 3509850.5273,
  "xmax": -1.02493139996E7,
  "ymax": 3898420.0273,
  "spatialReference": {
   "wkid": 102100,
   "latestWkid": 3857
  }
 },
 "fullExtent": {
  "xmin": -1.04696484996E7,
  "ymin": 3509850.5273,
  "xmax": -1.02493139996E7,
  "ymax": 3898420.0273,
  "spatialReference": {
   "wkid": 102100,
   "latestWkid": 3857
  }
 },
 "hasMultidimensions": false,
 "timeInfo": {
  "startTimeField": "START_DATE",
  "endTimeField": "END_DATE",
  "timeExtent": [
   1514764800000,
   1514764800000
  ],
  "timeReference": null
 },
 "pixelSizeX": 0.5,
 "pixelSizeY": 0.5,
 "datasetFormat": "AMD",
 "uncompressedSize": 1369844263964,
 "blockWidth": 2048,
 "blockHeight": 256,
 "compressionType": "None",
 "bandNames": [
  "Band_1"
 ],
 "allowCopy": true,
 "allowAnalysis": true,
 "bandCount": 1,
 "pixelType": "F32",
 "minPixelSize": 0,
 "maxPixelSize": 0,
 "copyrightText": "",
 "serviceDataType": "esriImageServiceDataTypeGeneric",
 "serviceSourceType": "esriImageServiceSourceTypeMosaicDataset",
 "minValues": [
  -9.50979995727539
 ],
 "maxValues": [
  153.1466827392578
 ],
 "meanValues": [
  53.36222998193632
 ],
 "stdvValues": [
  26.933215684200125
 ],
 "objectIdField": "OBJECTID",
 "fields": [
  {
   "name": "OBJECTID",
   "type": "esriFieldTypeOID",
   "alias": "OBJECTID",
   "domain": null
  },
  {
   "name": "Shape",
   "type": "esriFieldTypeGeometry",
   "alias": "Shape",
   "domain": null
  },
  {
   "name": "Name",
   "type": "esriFieldTypeString",
   "alias": "Name",
   "domain": null,
   "length": 200
  },
  {
   "name": "Category",
   "type": "esriFieldTypeInteger",
   "alias": "Category",
   "domain": {
    "type": "codedValue",
    "name": "MosaicCatalogItemCategoryDomain",
    "description": "Catalog item categories.",
    "codedValues": [
     {
      "name": "Unknown",
      "code": 0
     },
     {
      "name": "Primary",
      "code": 1
     },
     {
      "name": "Overview",
      "code": 2
     },
     {
      "name": "Unprocessed Overview",
      "code": 3
     },
     {
      "name": "Partial Overview",
      "code": 4
     },
     {
      "name": "Inactive",
      "code": 5
     },
     {
      "name": "Uploaded",
      "code": 253
     },
     {
      "name": "Incomplete",
      "code": 254
     },
     {
      "name": "Custom",
      "code": 255
     }
    ],
    "mergePolicy": "esriMPTDefaultValue",
    "splitPolicy": "esriSPTDefaultValue"
   }
  },
  {
   "name": "USNG",
   "type": "esriFieldTypeString",
   "alias": "USNG",
   "domain": null,
   "length": 15
  },
  {
   "name": "BLOCK",
   "type": "esriFieldTypeSmallInteger",
   "alias": "Block Number",
   "domain": null
  },
  {
   "name": "QUARTER",
   "type": "esriFieldTypeString",
   "alias": "Block Quarter",
   "domain": null,
   "length": 3
  },
  {
   "name": "BLOCK_ID",
   "type": "esriFieldTypeString",
   "alias": "Block Name",
   "domain": null,
   "length": 6
  },
  {
   "name": "MUNICIPALITY",
   "type": "esriFieldTypeString",
   "alias": "Municipality",
   "domain": null,
   "length": 100
  },
  {
   "name": "PLANNING_AREA_NAME",
   "type": "esriFieldTypeString",
   "alias": "Metropolitan Planning Area",
   "domain": null,
   "length": 30
  },
  {
   "name": "PLANNING_AREA_FIPS",
   "type": "esriFieldTypeString",
   "alias": "Metropolitan Planning Area FIPS",
   "domain": null,
   "length": 5
  },
  {
   "name": "PARISH",
   "type": "esriFieldTypeString",
   "alias": "Parish",
   "domain": null,
   "length": 32
  },
  {
   "name": "PARISH_FIPS",
   "type": "esriFieldTypeString",
   "alias": "Parish FIPS",
   "domain": null,
   "length": 3
  },
  {
   "name": "DOTD_DISTRICT",
   "type": "esriFieldTypeString",
   "alias": "DOTD District",
   "domain": null,
   "length": 2
  },
  {
   "name": "REGION",
   "type": "esriFieldTypeString",
   "alias": "Region",
   "domain": null,
   "length": 50
  },
  {
   "name": "STATE",
   "type": "esriFieldTypeString",
   "alias": "State",
   "domain": null,
   "length": 35
  },
  {
   "name": "START_DATE",
   "type": "esriFieldTypeString",
   "alias": "Collection Date Start",
   "domain": null,
   "length": 10
  },
  {
   "name": "END_DATE",
   "type": "esriFieldTypeString",
   "alias": "Collection Date End",
   "domain": null,
   "length": 10
  },
  {
   "name": "CREDITS",
   "type": "esriFieldTypeString",
   "alias": "Credits",
   "domain": null,
   "length": 100
  },
  {
   "name": "RESTRICTIONS",
   "type": "esriFieldTypeString",
   "alias": "Restrictions",
   "domain": null,
   "length": 255
  },
  {
   "name": "Y2018QL1P300_URL",
   "type": "esriFieldTypeString",
   "alias": "Y2018QL1P300_URL",
   "domain": null,
   "length": 255
  },
  {
   "name": "Y2018QL1P300_ID",
   "type": "esriFieldTypeInteger",
   "alias": "Y2018QL1P300_ID",
   "domain": null
  }
 ],
 "capabilities": "Image,Metadata,Mensuration,Catalog,Download",
 "defaultMosaicMethod": "Northwest",
 "allowedMosaicMethods": "NorthWest,Center,LockRaster,ByAttribute,Nadir,Viewpoint,Seamline,None",
 "sortField": "",
 "sortValue": null,
 "sortAscending": true,
 "mosaicOperator": "First",
 "maxDownloadSizeLimit": 10240,
 "defaultCompressionQuality": 75,
 "defaultResamplingMethod": "Bilinear",
 "maxImageHeight": 4100,
 "maxImageWidth": 15000,
 "maxRecordCount": 1000,
 "maxDownloadImageCount": 10,
 "maxMosaicImageCount": 20,
 "allowRasterFunction": true,
 "rasterFunctionInfos": [
  {
   "name": "None",
   "description": "Make a Raster or Raster Dataset into a Function Raster Dataset.",
   "help": ""
  }
 ],
 "rasterTypeInfos": [
  {
   "name": "Raster Dataset",
   "description": "Supports all ArcGIS Raster Datasets",
   "help": ""
  }
 ],
 "mensurationCapabilities": "Basic",
 "hasHistograms": true,
 "hasColormap": false,
 "hasRasterAttributeTable": false,
 "minScale": 0,
 "maxScale": 0,
 "exportTilesAllowed": false,
 "supportsStatistics": true,
 "supportsAdvancedQueries": true,
 "editFieldsInfo": null,
 "ownershipBasedAccessControlForRasters": null,
 "allowComputeTiePoints": false,
 "useStandardizedQueries": true,
 "advancedQueryCapabilities": {
  "useStandardizedQueries": true,
  "supportsStatistics": true,
  "supportsOrderBy": true,
  "supportsDistinct": true,
  "supportsPagination": true
 },
 "spatialReference": {
  "wkid": 102100,
  "latestWkid": 3857
 }
}
