{ "currentVersion": 10.91, "serviceDescription": "
\"This 1998 4-Band (RGBI) Imagery Product has been provided by LOSCO and is hosted as an image service by Louisiana DOTD. This service has a spatial resolution of approximately 1-Meter(s) and an extent covering statewide areas of interest. The source data for this service has horizontal coordinate system 'NAD 1983 UTM Zone 15N (EPSG: 26915)'. The source data is in MRSID format. The no data value for this data is 0. The source data bit depth is 8-Bit Unsigned. This data is not available for download. This data was provided to Louisiana DOTD by a commercial vendor and has been made publicly available.<\/span><\/p> <\/p> For more information on this data please visit https://atlas.ga.lsu.edu/datasets/doqq1998<\/span><\/p> <\/p> This data has been developed from the best available sources to ensure accuracy and reliability; however, the entire risk as to the quality and performance of the data is assumed by the user. <\/span><\/p><\/div><\/div><\/div>",
"name": "Imagery/1998_LA_1M_RGBI",
"description": " \"This 1998 4-Band (RGBI) Imagery Product has been provided by LOSCO and is hosted as an image service by Louisiana DOTD. This service has a spatial resolution of approximately 1-Meter(s) and an extent covering statewide areas of interest. The source data for this service has horizontal coordinate system 'NAD 1983 UTM Zone 15N (EPSG: 26915)'. The source data is in MRSID format. The no data value for this data is 0. The source data bit depth is 8-Bit Unsigned. This data is not available for download. This data was provided to Louisiana DOTD by a commercial vendor and has been made publicly available.<\/span><\/p> <\/p> For more information on this data please visit https://atlas.ga.lsu.edu/datasets/doqq1998<\/span><\/p> <\/p> This data has been developed from the best available sources to ensure accuracy and reliability; however, the entire risk as to the quality and performance of the data is assumed by the user. <\/span><\/p><\/div><\/div><\/div>",
"extent": {
"xmin": -1.04714560613E7,
"ymin": 3359389.9687999976,
"xmax": -9879181.0613,
"ymax": 3904107.9687999976,
"spatialReference": {
"wkid": 102100,
"latestWkid": 3857
}
},
"initialExtent": {
"xmin": -1.04714560613E7,
"ymin": 3359389.9687999976,
"xmax": -9879181.0613,
"ymax": 3904107.9687999976,
"spatialReference": {
"wkid": 102100,
"latestWkid": 3857
}
},
"fullExtent": {
"xmin": -1.04714560613E7,
"ymin": 3359389.9687999976,
"xmax": -9879181.0613,
"ymax": 3904107.9687999976,
"spatialReference": {
"wkid": 102100,
"latestWkid": 3857
}
},
"hasMultidimensions": false,
"timeInfo": {
"startTimeField": "START_DATE",
"endTimeField": "END_DATE",
"timeExtent": [
883612800000,
883612800000
],
"timeReference": null
},
"pixelSizeX": 1,
"pixelSizeY": 1,
"datasetFormat": "AMD",
"uncompressedSize": 1290491413800,
"blockWidth": 2048,
"blockHeight": 256,
"compressionType": "None",
"bandNames": [
"Red",
"Green",
"Blue",
"Infrared"
],
"allowCopy": true,
"allowAnalysis": true,
"bandCount": 4,
"pixelType": "U8",
"minPixelSize": 0,
"maxPixelSize": 0,
"copyrightText": "Data originally published by LSU CADGIS.",
"serviceDataType": "esriImageServiceDataTypeGeneric",
"serviceSourceType": "esriImageServiceSourceTypeMosaicDataset",
"minValues": [
1,
1,
1,
1
],
"maxValues": [
254,
254,
254,
254
],
"meanValues": [
94.80873724543241,
88.13020733438911,
66.94686926968943,
66.94686926968943
],
"stdvValues": [
44.267046007223676,
34.37458336056274,
27.404007378254924,
27.404007378254924
],
"objectIdField": "OBJECTID",
"fields": [
{
"name": "OBJECTID",
"type": "esriFieldTypeOID",
"alias": "OBJECTID",
"domain": null
},
{
"name": "Shape",
"type": "esriFieldTypeGeometry",
"alias": "Shape",
"domain": null
},
{
"name": "Name",
"type": "esriFieldTypeString",
"alias": "Name",
"domain": null,
"length": 200
},
{
"name": "Category",
"type": "esriFieldTypeInteger",
"alias": "Category",
"domain": {
"type": "codedValue",
"name": "MosaicCatalogItemCategoryDomain",
"description": "Catalog item categories.",
"codedValues": [
{
"name": "Unknown",
"code": 0
},
{
"name": "Primary",
"code": 1
},
{
"name": "Overview",
"code": 2
},
{
"name": "Unprocessed Overview",
"code": 3
},
{
"name": "Partial Overview",
"code": 4
},
{
"name": "Inactive",
"code": 5
},
{
"name": "Uploaded",
"code": 253
},
{
"name": "Incomplete",
"code": 254
},
{
"name": "Custom",
"code": 255
}
],
"mergePolicy": "esriMPTDefaultValue",
"splitPolicy": "esriSPTDefaultValue"
}
},
{
"name": "CenterX",
"type": "esriFieldTypeDouble",
"alias": "CenterX",
"domain": null
},
{
"name": "START_DATE",
"type": "esriFieldTypeString",
"alias": "Collection Date Start",
"domain": null,
"length": 255
},
{
"name": "END_DATE",
"type": "esriFieldTypeString",
"alias": "Collection Date End",
"domain": null,
"length": 255
},
{
"name": "CREDITS",
"type": "esriFieldTypeString",
"alias": "Credits",
"domain": null,
"length": 255
},
{
"name": "RESTRICTIONS",
"type": "esriFieldTypeString",
"alias": "Restrictions",
"domain": null,
"length": 255
}
],
"capabilities": "Catalog,Mensuration,Download,Image,Metadata",
"defaultMosaicMethod": "Northwest",
"allowedMosaicMethods": "NorthWest,Center,LockRaster,ByAttribute,Nadir,Viewpoint,Seamline,None",
"sortField": "",
"sortValue": null,
"sortAscending": true,
"mosaicOperator": "First",
"maxDownloadSizeLimit": 2048,
"defaultCompressionQuality": 75,
"defaultResamplingMethod": "Bilinear",
"maxImageHeight": 4100,
"maxImageWidth": 15000,
"maxRecordCount": 1000,
"maxDownloadImageCount": 20,
"maxMosaicImageCount": 20,
"allowRasterFunction": true,
"rasterFunctionInfos": [
{
"name": "None",
"description": "",
"help": ""
}
],
"rasterTypeInfos": [
{
"name": "Raster Dataset",
"description": "Supports all ArcGIS Raster Datasets",
"help": ""
}
],
"mensurationCapabilities": "Basic",
"hasHistograms": true,
"hasColormap": false,
"hasRasterAttributeTable": false,
"minScale": 0,
"maxScale": 0,
"exportTilesAllowed": false,
"supportsStatistics": true,
"supportsAdvancedQueries": true,
"editFieldsInfo": null,
"ownershipBasedAccessControlForRasters": null,
"allowComputeTiePoints": false,
"useStandardizedQueries": true,
"advancedQueryCapabilities": {
"useStandardizedQueries": true,
"supportsStatistics": true,
"supportsOrderBy": true,
"supportsDistinct": true,
"supportsPagination": true
},
"spatialReference": {
"wkid": 102100,
"latestWkid": 3857
}
}