{ "currentVersion": 10.91, "serviceDescription": "
This 2014 Landsat 8 Composite Imagery Product has been provided by USGS and is hosted as an image service by Louisiana DOTD. This service has a spatial resolution of approximately 15-Meter(s) and an extent covering statewide areas of interest. The source data for this service has horizontal coordinate system 'WGS 1984 UTM Zone 15N (EPSG: 32615)'. The source data is in TIF format. The no data value for this data is 0. The source data bit depth is 8-Bit Unsigned. This data is not available for download. This dataset is a mosaic of 14 Landsat 8 OLI satellite scenes acquired during the Winter of 2014. The mosaic was created using bands 7 (mid-IR), 6 (near-IR), and 4 (red visible) in RGB sequence merged with the panchromatic band. The final mosaic was trimmed to the Louisiana state boundary, and is in 15 meter pan-sharpened spatial resolution in 8-bit format. The data were collected to provide an updated satellite image of Louisiana to be used in GIS and remote sensing analysis of land cover conditions related to an array of activities supported by Louisiana Sea Grant and related sponsors and users.<\/span><\/p> <\/p> For more information on this data please visit https://atlas.ga.lsu.edu/category/datasets/<\/span><\/p> <\/p> This data has been developed from the best available sources to ensure accuracy and reliability; however, the entire risk as to the quality and performance of the data is assumed by the user. The data herein, including but not limited to geographic data, tabular data, analytical data, electronic data structures or files, are provided 'as is' without warranty of any kind, either expressed or implied, including, but not limited to, the implied warranties of merchantability and fitness for a particular purpose. In no event shall the LADOTD be liable for direct, indirect, incidental, consequential or specific damages of any kind, including, but not limited to, loss of anticipated profits or benefits arising out of use of or reliance on the data. The user should refer to the accompanying metadata notes for a description of the data and data development procedures. The data may not be suitable for all high-precision measurement applications such as property transfers or other uses that might require highly accurate measurements of the earth's surface. Distribution of the data is intended for informational purposes and should not be considered authoritative for navigational, engineering, legal or other site-specific uses. The data is provided free to use in any product or publication, however no warranty, expressed or implied is made with regard to the accuracy of data or the spatial accuracy, and LADOTD accepts no liability for any damages or misrepresentation caused by inaccuracies in the data or as a result of changes to the data caused by system transfers or other transformations or conversions, nor is there responsibility assumed to maintain the data in any manner or form.<\/span><\/p><\/div><\/div><\/div>",
"name": "Imagery/2014_LA_15M_Landsat8Composite",
"description": " This 2014 Landsat 8 Composite Imagery Product has been provided by USGS and is hosted as an image service by Louisiana DOTD. This service has a spatial resolution of approximately 15-Meter(s) and an extent covering statewide areas of interest. The source data for this service has horizontal coordinate system 'WGS 1984 UTM Zone 15N (EPSG: 32615)'. The source data is in TIF format. The no data value for this data is 0. The source data bit depth is 8-Bit Unsigned. This data is not available for download. This dataset is a mosaic of 14 Landsat 8 OLI satellite scenes acquired during the Winter of 2014. The mosaic was created using bands 7 (mid-IR), 6 (near-IR), and 4 (red visible) in RGB sequence merged with the panchromatic band. The final mosaic was trimmed to the Louisiana state boundary, and is in 15 meter pan-sharpened spatial resolution in 8-bit format. The data were collected to provide an updated satellite image of Louisiana to be used in GIS and remote sensing analysis of land cover conditions related to an array of activities supported by Louisiana Sea Grant and related sponsors and users.<\/span><\/p> <\/p> For more information on this data please visit https://atlas.ga.lsu.edu/category/datasets/<\/span><\/p> <\/p> This data has been developed from the best available sources to ensure accuracy and reliability; however, the entire risk as to the quality and performance of the data is assumed by the user. The data herein, including but not limited to geographic data, tabular data, analytical data, electronic data structures or files, are provided 'as is' without warranty of any kind, either expressed or implied, including, but not limited to, the implied warranties of merchantability and fitness for a particular purpose. In no event shall the LADOTD be liable for direct, indirect, incidental, consequential or specific damages of any kind, including, but not limited to, loss of anticipated profits or benefits arising out of use of or reliance on the data. The user should refer to the accompanying metadata notes for a description of the data and data development procedures. The data may not be suitable for all high-precision measurement applications such as property transfers or other uses that might require highly accurate measurements of the earth's surface. Distribution of the data is intended for informational purposes and should not be considered authoritative for navigational, engineering, legal or other site-specific uses. The data is provided free to use in any product or publication, however no warranty, expressed or implied is made with regard to the accuracy of data or the spatial accuracy, and LADOTD accepts no liability for any damages or misrepresentation caused by inaccuracies in the data or as a result of changes to the data caused by system transfers or other transformations or conversions, nor is there responsibility assumed to maintain the data in any manner or form.<\/span><\/p><\/div><\/div><\/div>",
"extent": {
"xmin": -1.04701178985E7,
"ymin": 3354797.2432,
"xmax": -9865032.8985,
"ymax": 3898427.2432,
"spatialReference": {
"wkid": 102100,
"latestWkid": 3857
}
},
"initialExtent": {
"xmin": -1.04701178985E7,
"ymin": 3354797.2432,
"xmax": -9865032.8985,
"ymax": 3898427.2432,
"spatialReference": {
"wkid": 102100,
"latestWkid": 3857
}
},
"fullExtent": {
"xmin": -1.04701178985E7,
"ymin": 3354797.2432,
"xmax": -9865032.8985,
"ymax": 3898427.2432,
"spatialReference": {
"wkid": 102100,
"latestWkid": 3857
}
},
"hasMultidimensions": false,
"timeInfo": {
"startTimeField": "START_DATE",
"endTimeField": "END_DATE",
"timeExtent": [
1388534400000,
1388534400000
],
"timeReference": null,
"defaultTimeInterval": 1,
"defaultTimeIntervalUnits": "esriTimeUnitsYears"
},
"pixelSizeX": 15,
"pixelSizeY": 15,
"datasetFormat": "AMD",
"uncompressedSize": 4385898114,
"blockWidth": 2048,
"blockHeight": 256,
"compressionType": "None",
"bandNames": [
"Red",
"Green",
"Blue"
],
"allowCopy": true,
"allowAnalysis": true,
"bandCount": 3,
"pixelType": "U8",
"minPixelSize": 0,
"maxPixelSize": 0,
"copyrightText": "Data originally published by LSU CADGIS.",
"serviceDataType": "esriImageServiceDataTypeRGB",
"serviceSourceType": "esriImageServiceSourceTypeMosaicDataset",
"minValues": [
1,
1,
1
],
"maxValues": [
254,
254,
254
],
"meanValues": [
83.35983197394964,
95.64454803034164,
74.99526525771573
],
"stdvValues": [
60.87651314942356,
62.89597167236079,
56.98870233229272
],
"objectIdField": "OBJECTID",
"fields": [
{
"name": "OBJECTID",
"type": "esriFieldTypeOID",
"alias": "OBJECTID",
"domain": null
},
{
"name": "Shape",
"type": "esriFieldTypeGeometry",
"alias": "Shape",
"domain": null
},
{
"name": "Name",
"type": "esriFieldTypeString",
"alias": "Name",
"domain": null,
"length": 200
},
{
"name": "Category",
"type": "esriFieldTypeInteger",
"alias": "Category",
"domain": {
"type": "codedValue",
"name": "MosaicCatalogItemCategoryDomain",
"description": "Catalog item categories.",
"codedValues": [
{
"name": "Unknown",
"code": 0
},
{
"name": "Primary",
"code": 1
},
{
"name": "Overview",
"code": 2
},
{
"name": "Unprocessed Overview",
"code": 3
},
{
"name": "Partial Overview",
"code": 4
},
{
"name": "Inactive",
"code": 5
},
{
"name": "Uploaded",
"code": 253
},
{
"name": "Incomplete",
"code": 254
},
{
"name": "Custom",
"code": 255
}
],
"mergePolicy": "esriMPTDefaultValue",
"splitPolicy": "esriSPTDefaultValue"
}
},
{
"name": "USNG",
"type": "esriFieldTypeString",
"alias": "USNG",
"domain": null,
"length": 15
},
{
"name": "BLOCK",
"type": "esriFieldTypeSmallInteger",
"alias": "Block Number",
"domain": null
},
{
"name": "QUARTER",
"type": "esriFieldTypeString",
"alias": "Block Quarter",
"domain": null,
"length": 3
},
{
"name": "BLOCK_ID",
"type": "esriFieldTypeString",
"alias": "Block Name",
"domain": null,
"length": 6
},
{
"name": "MUNICIPALITY",
"type": "esriFieldTypeString",
"alias": "Municipality",
"domain": null,
"length": 100
},
{
"name": "PLANNING_AREA_NAME",
"type": "esriFieldTypeString",
"alias": "Metropolitan Planning Area",
"domain": null,
"length": 30
},
{
"name": "PLANNING_AREA_FIPS",
"type": "esriFieldTypeString",
"alias": "Metropolitan Planning Area FIPS",
"domain": null,
"length": 5
},
{
"name": "PARISH",
"type": "esriFieldTypeString",
"alias": "Parish",
"domain": null,
"length": 32
},
{
"name": "PARISH_FIPS",
"type": "esriFieldTypeString",
"alias": "Parish FIPS",
"domain": null,
"length": 3
},
{
"name": "DOTD_DISTRICT",
"type": "esriFieldTypeString",
"alias": "DOTD District",
"domain": null,
"length": 2
},
{
"name": "REGION",
"type": "esriFieldTypeString",
"alias": "Region",
"domain": null,
"length": 50
},
{
"name": "STATE",
"type": "esriFieldTypeString",
"alias": "State",
"domain": null,
"length": 35
},
{
"name": "START_DATE",
"type": "esriFieldTypeString",
"alias": "Collection Date Start",
"domain": null,
"length": 10
},
{
"name": "END_DATE",
"type": "esriFieldTypeString",
"alias": "Collection Date End",
"domain": null,
"length": 10
},
{
"name": "CREDITS",
"type": "esriFieldTypeString",
"alias": "Credits",
"domain": null,
"length": 100
},
{
"name": "RESTRICTIONS",
"type": "esriFieldTypeString",
"alias": "Restrictions",
"domain": null,
"length": 255
},
{
"name": "Y2014B03R1500P1_URL",
"type": "esriFieldTypeString",
"alias": "2014 Louisiana 15-Meter Landsat 8 Composite URL",
"domain": null,
"length": 255
},
{
"name": "Y2014B03R1500P1_ID",
"type": "esriFieldTypeInteger",
"alias": "2014 Louisiana 15-Meter Landsat 8 Composite ID",
"domain": null
}
],
"capabilities": "Catalog,Mensuration,Download,Image,Metadata",
"defaultMosaicMethod": "Northwest",
"allowedMosaicMethods": "NorthWest,Center,LockRaster,ByAttribute,Nadir,Viewpoint,Seamline,None",
"sortField": "",
"sortValue": null,
"sortAscending": true,
"mosaicOperator": "First",
"maxDownloadSizeLimit": 10240,
"defaultCompressionQuality": 75,
"defaultResamplingMethod": "Bilinear",
"maxImageHeight": 4100,
"maxImageWidth": 15000,
"maxRecordCount": 1000,
"maxDownloadImageCount": 10,
"maxMosaicImageCount": 20,
"allowRasterFunction": true,
"rasterFunctionInfos": [
{
"name": "None",
"description": "Make a Raster or Raster Dataset into a Function Raster Dataset.",
"help": ""
}
],
"rasterTypeInfos": [
{
"name": "Raster Dataset",
"description": "Supports all ArcGIS Raster Datasets",
"help": ""
}
],
"mensurationCapabilities": "Basic",
"hasHistograms": true,
"hasColormap": false,
"hasRasterAttributeTable": false,
"minScale": 0,
"maxScale": 0,
"exportTilesAllowed": false,
"supportsStatistics": true,
"supportsAdvancedQueries": true,
"editFieldsInfo": null,
"ownershipBasedAccessControlForRasters": null,
"allowComputeTiePoints": false,
"useStandardizedQueries": true,
"advancedQueryCapabilities": {
"useStandardizedQueries": true,
"supportsStatistics": true,
"supportsOrderBy": true,
"supportsDistinct": true,
"supportsPagination": true
},
"spatialReference": {
"wkid": 102100,
"latestWkid": 3857
}
}