{ "currentVersion": 10.91, "serviceDescription": "
This 2018 4-Band (RGBI) Aerial Imagery has been provided by NORPC and is hosted as an image service by Louisiana DOTD. This service has a spatial resolution of approximately 1-Foot(s) and an extent covering New Orleans areas of interest. This data has been tiled into 1500-meter cells based on the US National Grid (USNG). The source data for this service has horizontal coordinate system 'NAD 1983 (2011) UTM Zone 15N (EPSG:6344)' and vertical coordinate system 'NAVD88 height - GEOID12B (EPSG: Custom)'. The source data is in TIF format. The no data value for this data is 0. The source data bit depth is 8-Bit Unsigned. This data is not available for download. This data was provided to Louisiana DOTD by NORPC.<\/span><\/p> <\/p> For more information on this data please visit https://www.norpc.org/about/<\/span><\/p> <\/p> This data has been developed from the best available sources to ensure accuracy and reliability; however, the entire risk as to the quality and performance of the data is assumed by the user. The data herein, including but not limited to geographic data, tabular data, analytical data, electronic data structures or files, are provided 'as is' without warranty of any kind, either expressed or implied, including, but not limited to, the implied warranties of merchantability and fitness for a particular purpose. In no event shall the LADOTD be liable for direct, indirect, incidental, consequential or specific damages of any kind, including, but not limited to, loss of anticipated profits or benefits arising out of use of or reliance on the data. The user should refer to the accompanying metadata notes for a description of the data and data development procedures. The data may not be suitable for all high-precision measurement applications such as property transfers or other uses that might require highly accurate measurements of the earth's surface. Distribution of the data is intended for informational purposes and should not be considered authoritative for navigational, engineering, legal or other site-specific uses. The data is provided free to use in any product or publication, however no warranty, expressed or implied is made with regard to the accuracy of data or the spatial accuracy, and LADOTD accepts no liability for any damages or misrepresentation caused by inaccuracies in the data or as a result of changes to the data caused by system transfers or other transformations or conversions, nor is there responsibility assumed to maintain the data in any manner or form.<\/span><\/p><\/div><\/div><\/div>",
"name": "Imagery/2018_NewOrleans_1FT_RGBI",
"description": " This 2018 4-Band (RGBI) Aerial Imagery has been provided by NORPC and is hosted as an image service by Louisiana DOTD. This service has a spatial resolution of approximately 1-Foot(s) and an extent covering New Orleans areas of interest. This data has been tiled into 1500-meter cells based on the US National Grid (USNG). The source data for this service has horizontal coordinate system 'NAD 1983 (2011) UTM Zone 15N (EPSG:6344)' and vertical coordinate system 'NAVD88 height - GEOID12B (EPSG: Custom)'. The source data is in TIF format. The no data value for this data is 0. The source data bit depth is 8-Bit Unsigned. This data is not available for download. This data was provided to Louisiana DOTD by NORPC.<\/span><\/p> <\/p> For more information on this data please visit https://www.norpc.org/about/<\/span><\/p> <\/p> This data has been developed from the best available sources to ensure accuracy and reliability; however, the entire risk as to the quality and performance of the data is assumed by the user. The data herein, including but not limited to geographic data, tabular data, analytical data, electronic data structures or files, are provided 'as is' without warranty of any kind, either expressed or implied, including, but not limited to, the implied warranties of merchantability and fitness for a particular purpose. In no event shall the LADOTD be liable for direct, indirect, incidental, consequential or specific damages of any kind, including, but not limited to, loss of anticipated profits or benefits arising out of use of or reliance on the data. The user should refer to the accompanying metadata notes for a description of the data and data development procedures. The data may not be suitable for all high-precision measurement applications such as property transfers or other uses that might require highly accurate measurements of the earth's surface. Distribution of the data is intended for informational purposes and should not be considered authoritative for navigational, engineering, legal or other site-specific uses. The data is provided free to use in any product or publication, however no warranty, expressed or implied is made with regard to the accuracy of data or the spatial accuracy, and LADOTD accepts no liability for any damages or misrepresentation caused by inaccuracies in the data or as a result of changes to the data caused by system transfers or other transformations or conversions, nor is there responsibility assumed to maintain the data in any manner or form.<\/span><\/p><\/div><\/div><\/div>",
"extent": {
"xmin": -1.00955062018E7,
"ymin": 3365432.2453105724,
"xmax": -9885898.141847944,
"ymax": 3632956.825600003,
"spatialReference": {
"wkid": 102100,
"latestWkid": 3857
}
},
"initialExtent": {
"xmin": -1.00955062018E7,
"ymin": 3365432.2453105724,
"xmax": -9885898.141847944,
"ymax": 3632956.825600003,
"spatialReference": {
"wkid": 102100,
"latestWkid": 3857
}
},
"fullExtent": {
"xmin": -1.00955062018E7,
"ymin": 3365432.2453105724,
"xmax": -9885898.141847944,
"ymax": 3632956.825600003,
"spatialReference": {
"wkid": 102100,
"latestWkid": 3857
}
},
"hasMultidimensions": false,
"timeInfo": {
"startTimeField": "START_DATE",
"endTimeField": "END_DATE",
"timeExtent": [
1514764800000,
1514764800000
],
"timeReference": null,
"defaultTimeInterval": 1,
"defaultTimeIntervalUnits": "esriTimeUnitsYears"
},
"pixelSizeX": 0.2961285226807304,
"pixelSizeY": 0.2961285226807302,
"datasetFormat": "AMD",
"uncompressedSize": 2557823466356,
"blockWidth": 2048,
"blockHeight": 256,
"compressionType": "None",
"bandNames": [
"Red",
"Green",
"Blue",
"Infrared"
],
"allowCopy": true,
"allowAnalysis": true,
"bandCount": 4,
"pixelType": "U8",
"minPixelSize": 0,
"maxPixelSize": 0,
"copyrightText": "Data provided to DOTD by NORPC (New Orleans Regional Planning Committee).",
"serviceDataType": "esriImageServiceDataTypeGeneric",
"serviceSourceType": "esriImageServiceSourceTypeMosaicDataset",
"minValues": [
7,
14,
24,
1
],
"maxValues": [
244,
239,
240,
253
],
"meanValues": [
74.38985761895985,
83.81203450575725,
73.88159667660248,
71.36672264234194
],
"stdvValues": [
29.46156888331165,
25.172982384103214,
20.992080024492314,
64.15403077250882
],
"objectIdField": "OBJECTID",
"fields": [
{
"name": "OBJECTID",
"type": "esriFieldTypeOID",
"alias": "OBJECTID",
"domain": null
},
{
"name": "Shape",
"type": "esriFieldTypeGeometry",
"alias": "Shape",
"domain": null
},
{
"name": "Name",
"type": "esriFieldTypeString",
"alias": "Name",
"domain": null,
"length": 200
},
{
"name": "Category",
"type": "esriFieldTypeInteger",
"alias": "Category",
"domain": {
"type": "codedValue",
"name": "MosaicCatalogItemCategoryDomain",
"description": "Catalog item categories.",
"codedValues": [
{
"name": "Unknown",
"code": 0
},
{
"name": "Primary",
"code": 1
},
{
"name": "Overview",
"code": 2
},
{
"name": "Unprocessed Overview",
"code": 3
},
{
"name": "Partial Overview",
"code": 4
},
{
"name": "Inactive",
"code": 5
},
{
"name": "Uploaded",
"code": 253
},
{
"name": "Incomplete",
"code": 254
},
{
"name": "Custom",
"code": 255
}
],
"mergePolicy": "esriMPTDefaultValue",
"splitPolicy": "esriSPTDefaultValue"
}
},
{
"name": "USNG",
"type": "esriFieldTypeString",
"alias": "USNG",
"domain": null,
"length": 15
},
{
"name": "BLOCK",
"type": "esriFieldTypeSmallInteger",
"alias": "Block Number",
"domain": null
},
{
"name": "QUARTER",
"type": "esriFieldTypeString",
"alias": "Block Quarter",
"domain": null,
"length": 3
},
{
"name": "BLOCK_ID",
"type": "esriFieldTypeString",
"alias": "Block Name",
"domain": null,
"length": 6
},
{
"name": "MUNICIPALITY",
"type": "esriFieldTypeString",
"alias": "Municipality",
"domain": null,
"length": 100
},
{
"name": "PLANNING_AREA_NAME",
"type": "esriFieldTypeString",
"alias": "Metropolitan Planning Area",
"domain": null,
"length": 30
},
{
"name": "PLANNING_AREA_FIPS",
"type": "esriFieldTypeString",
"alias": "Metropolitan Planning Area FIPS",
"domain": null,
"length": 5
},
{
"name": "PARISH",
"type": "esriFieldTypeString",
"alias": "Parish",
"domain": null,
"length": 32
},
{
"name": "PARISH_FIPS",
"type": "esriFieldTypeString",
"alias": "Parish FIPS",
"domain": null,
"length": 3
},
{
"name": "DOTD_DISTRICT",
"type": "esriFieldTypeString",
"alias": "DOTD District",
"domain": null,
"length": 2
},
{
"name": "REGION",
"type": "esriFieldTypeString",
"alias": "Region",
"domain": null,
"length": 50
},
{
"name": "STATE",
"type": "esriFieldTypeString",
"alias": "State",
"domain": null,
"length": 35
},
{
"name": "START_DATE",
"type": "esriFieldTypeString",
"alias": "Collection Date Start",
"domain": null,
"length": 10
},
{
"name": "END_DATE",
"type": "esriFieldTypeString",
"alias": "Collection Date End",
"domain": null,
"length": 10
},
{
"name": "CREDITS",
"type": "esriFieldTypeString",
"alias": "Credits",
"domain": null,
"length": 100
},
{
"name": "RESTRICTIONS",
"type": "esriFieldTypeString",
"alias": "Restrictions",
"domain": null,
"length": 255
},
{
"name": "Y2018B04R0030P1_URL",
"type": "esriFieldTypeString",
"alias": "2018 New Orleans 1-Foot 4-Band (RGBI) URL",
"domain": null,
"length": 255
},
{
"name": "Y2018B04R0030P1_ID",
"type": "esriFieldTypeInteger",
"alias": "2018 New Orleans 1-Foot 4-Band (RGBI) ID",
"domain": null
}
],
"capabilities": "Catalog,Mensuration,Download,Image,Metadata",
"defaultMosaicMethod": "Northwest",
"allowedMosaicMethods": "NorthWest,Center,LockRaster,ByAttribute,Nadir,Viewpoint,Seamline,None",
"sortField": "",
"sortValue": null,
"sortAscending": true,
"mosaicOperator": "First",
"maxDownloadSizeLimit": 2048,
"defaultCompressionQuality": 75,
"defaultResamplingMethod": "Bilinear",
"maxImageHeight": 4100,
"maxImageWidth": 15000,
"maxRecordCount": 1000,
"maxDownloadImageCount": 0,
"maxMosaicImageCount": 20,
"allowRasterFunction": true,
"rasterFunctionInfos": [
{
"name": "None",
"description": "Make a Raster or Raster Dataset into a Function Raster Dataset.",
"help": ""
}
],
"rasterTypeInfos": [
{
"name": "Raster Dataset",
"description": "Supports all ArcGIS Raster Datasets",
"help": ""
}
],
"mensurationCapabilities": "Basic",
"hasHistograms": true,
"hasColormap": false,
"hasRasterAttributeTable": false,
"minScale": 0,
"maxScale": 0,
"exportTilesAllowed": false,
"supportsStatistics": true,
"supportsAdvancedQueries": true,
"editFieldsInfo": null,
"ownershipBasedAccessControlForRasters": null,
"allowComputeTiePoints": false,
"useStandardizedQueries": true,
"advancedQueryCapabilities": {
"useStandardizedQueries": true,
"supportsStatistics": true,
"supportsOrderBy": true,
"supportsDistinct": true,
"supportsPagination": true
},
"spatialReference": {
"wkid": 102100,
"latestWkid": 3857
}
}