{ "currentVersion": 10.91, "serviceDescription": "
NLCD tree canopy cover is a 30 m raster geospatial dataset that is available for the conterminous United States, coastal Alaska, Hawaii, and Puerto Rico. These data contain percent tree canopy estimates, as a continuous variable, for each pixel across all land covers and types and are generated by the United States Forest Service (USFS).<\/span><\/p><\/div><\/div><\/div>",
"name": "OpenData/TreeCanopy2016",
"description": " NLCD tree canopy cover is a 30 m raster geospatial dataset that is available for the conterminous United States, coastal Alaska, Hawaii, and Puerto Rico. These data contain percent tree canopy estimates, as a continuous variable, for each pixel across all land covers and types and are generated by the United States Forest Service (USFS).<\/span><\/p><\/div><\/div><\/div>",
"extent": {
"xmin": -1.04983921641695E7,
"ymin": 3310702.723935267,
"xmax": -9819112.791322088,
"ymax": 3939911.530300412,
"spatialReference": {
"wkid": 102100,
"latestWkid": 3857
}
},
"initialExtent": {
"xmin": -1.04983921641695E7,
"ymin": 3310702.723935267,
"xmax": -9819112.791322088,
"ymax": 3939911.530300412,
"spatialReference": {
"wkid": 102100,
"latestWkid": 3857
}
},
"fullExtent": {
"xmin": -1.04983921641695E7,
"ymin": 3310702.723935267,
"xmax": -9819112.791322088,
"ymax": 3939911.530300412,
"spatialReference": {
"wkid": 102100,
"latestWkid": 3857
}
},
"hasMultidimensions": false,
"pixelSizeX": 29.99953066499191,
"pixelSizeY": 29.99946630900853,
"datasetFormat": "FGDBR",
"uncompressedSize": 474914282,
"blockWidth": 128,
"blockHeight": 128,
"compressionType": "NONE",
"bandNames": [
"Band_1"
],
"allowCopy": true,
"allowAnalysis": true,
"bandCount": 1,
"pixelType": "U8",
"minPixelSize": 0,
"maxPixelSize": 0,
"copyrightText": "Imagery provided by USFS, 2021.",
"serviceDataType": "esriImageServiceDataTypeThematic",
"serviceSourceType": "esriImageServiceSourceTypeDataset",
"minValues": [
4
],
"maxValues": [
100
],
"meanValues": [
80.76633083963371
],
"stdvValues": [
21.2176417793104
],
"objectIdField": "",
"fields": [],
"capabilities": "Catalog,Mensuration,Download,Image,Metadata",
"defaultMosaicMethod": "Northwest",
"allowedMosaicMethods": "NorthWest,Center,LockRaster,ByAttribute,Nadir,Viewpoint,Seamline,None",
"sortField": "",
"sortValue": null,
"sortAscending": true,
"mosaicOperator": "First",
"maxDownloadSizeLimit": 10240,
"defaultCompressionQuality": 75,
"defaultResamplingMethod": "Bilinear",
"maxImageHeight": 4100,
"maxImageWidth": 15000,
"maxRecordCount": 1000,
"maxDownloadImageCount": 10,
"maxMosaicImageCount": 20,
"allowRasterFunction": true,
"rasterFunctionInfos": [
{
"name": "None",
"description": "",
"help": ""
}
],
"rasterTypeInfos": [
{
"name": "Raster Dataset",
"description": "Supports all ArcGIS Raster Datasets",
"help": ""
}
],
"mensurationCapabilities": "Basic",
"hasHistograms": true,
"hasColormap": true,
"hasRasterAttributeTable": true,
"minScale": 0,
"maxScale": 0,
"exportTilesAllowed": false,
"supportsStatistics": false,
"supportsAdvancedQueries": false,
"editFieldsInfo": null,
"ownershipBasedAccessControlForRasters": null,
"allowComputeTiePoints": false,
"useStandardizedQueries": true,
"advancedQueryCapabilities": {
"useStandardizedQueries": true,
"supportsStatistics": false,
"supportsOrderBy": false,
"supportsDistinct": false,
"supportsPagination": false
},
"spatialReference": {
"wkid": 102100,
"latestWkid": 3857
}
}