View In:
ArcGIS JavaScript
ArcGIS Online Map Viewer
ArcGIS Earth
ArcMap
View Footprint In:
ArcGIS Online Map Viewer
Service Description: Imagery/2014_Metros_3IN_RGB
Name: Imagery/2014_Metros_3IN_RGB
Description:
Single Fused Map Cache: false
Extent:
XMin: -1.04529841784E7
YMin: 3386307.5815764973
XMax: -9989202.208792625
YMax: 3891865.461599998
Spatial Reference: 102100
(3857)
LatestVCSWkid(0)
Initial Extent:
XMin: -1.04529841784E7
YMin: 3386307.5815764973
XMax: -9989202.208792625
YMax: 3891865.461599998
Spatial Reference: 102100
(3857)
LatestVCSWkid(0)
Full Extent:
XMin: -1.04529841784E7
YMin: 3386307.5815764973
XMax: -9989202.208792625
YMax: 3891865.461599998
Spatial Reference: 102100
(3857)
LatestVCSWkid(0)
Time Info:
Start Time Field: START_DATE
End Time Field: END_DATE
Time Extent:
[2014/01/01 00:00:00 UTC, 2014/01/01 00:00:00 UTC]
Time Reference:
N/A
Pixel Size X: 0.07613213519993597
Pixel Size Y: 0.07613213519993592
Band Count: 3
Pixel Type: U8
RasterFunction Infos: {"rasterFunctionInfos": [{
"name": "None",
"description": "Make a Raster or Raster Dataset into a Function Raster Dataset.",
"help": ""
}]}
Mensuration Capabilities: Basic
Has Histograms: true
Has Colormap: false
Has Multi Dimensions : false
Rendering Rule:
Min Scale: 0
Max Scale: 0
Copyright Text:
Service Data Type: esriImageServiceDataTypeRGB
Min Values: 1, 1, 1
Max Values: 254, 254, 254
Mean Values: 85.40050683633895, 86.02592892530802, 75.39017712267733
Standard Deviation Values: 37.59841471966202, 33.31592290277437, 29.472595837623448
Object ID Field: OBJECTID
Fields:
-
OBJECTID
(
type: esriFieldTypeOID, alias: OBJECTID
)
-
Shape
(
type: esriFieldTypeGeometry, alias: Shape
)
-
Name
(
type: esriFieldTypeString, alias: Name, length: 200
)
-
Category
(
type: esriFieldTypeInteger, alias: Category
, Coded Values:
[0: Unknown]
, [1: Primary]
, [2: Overview]
, ...6 more...
)
-
USNG
(
type: esriFieldTypeString, alias: USNG, length: 15
)
-
BLOCK
(
type: esriFieldTypeSmallInteger, alias: Block Number
)
-
QUARTER
(
type: esriFieldTypeString, alias: Block Quarter, length: 3
)
-
BLOCK_ID
(
type: esriFieldTypeString, alias: Block Name, length: 6
)
-
MUNICIPALITY
(
type: esriFieldTypeString, alias: Municipality, length: 100
)
-
PLANNING_AREA_NAME
(
type: esriFieldTypeString, alias: Metropolitan Planning Area, length: 30
)
-
PLANNING_AREA_FIPS
(
type: esriFieldTypeString, alias: Metropolitan Planning Area FIPS, length: 5
)
-
PARISH
(
type: esriFieldTypeString, alias: Parish, length: 32
)
-
PARISH_FIPS
(
type: esriFieldTypeString, alias: Parish FIPS, length: 3
)
-
DOTD_DISTRICT
(
type: esriFieldTypeString, alias: DOTD District, length: 2
)
-
REGION
(
type: esriFieldTypeString, alias: Region, length: 50
)
-
STATE
(
type: esriFieldTypeString, alias: State, length: 35
)
-
START_DATE
(
type: esriFieldTypeString, alias: Collection Date Start, length: 10
)
-
END_DATE
(
type: esriFieldTypeString, alias: Collection Date End, length: 10
)
-
CREDITS
(
type: esriFieldTypeString, alias: Credits, length: 100
)
-
RESTRICTIONS
(
type: esriFieldTypeString, alias: Restrictions, length: 255
)
-
Y2014B03R0007P1_URL
(
type: esriFieldTypeString, alias: Y2014B03R0007P1_URL, length: 8000
)
-
Y2014B03R0007P1_ID
(
type: esriFieldTypeInteger, alias: Y2014B03R0007P1_ID
)
Default Mosaic Method: Northwest
Allowed Mosaic Methods: NorthWest,Center,LockRaster,ByAttribute,Nadir,Viewpoint,Seamline,None
SortField:
SortValue: null
Mosaic Operator: First
Default Compression Quality: 75
Default Resampling Method: Bilinear
Max Record Count: 1000
Max Image Height: 4100
Max Image Width: 15000
Max Download Image Count: 10
Max Mosaic Image Count: 20
Allow Raster Function: true
Allow Copy: true
Allow Analysis: true
Allow Compute TiePoints: false
Supports Statistics: true
Supports Advanced Queries: true
Use StandardizedQueries: true
Raster Type Infos:
Name: Raster Dataset
Description: Supports all ArcGIS Raster Datasets
Help:
Has Raster Attribute Table: false
Edit Fields Info: null
Ownership Based AccessControl For Rasters: null
Child Resources:
Info
Histograms
Statistics
Key Properties
Legend
Raster Function Infos
Supported Operations:
Export Image
Query
Identify
Download Rasters
Measure
Compute Histograms
Compute Statistics Histograms
Get Samples
Compute Class Statistics
Query Boundary
Compute Pixel Location
Compute Angles
Validate
Project