View In:
ArcGIS JavaScript
ArcGIS Online Map Viewer
ArcGIS Earth
ArcMap
View Footprint In:
ArcGIS Online Map Viewer
Service Description: OpenData/TreeCanopy2019
Name: OpenData/TreeCanopy2019
Description:
Single Fused Map Cache: false
Extent:
XMin: 181704.1284889959
YMin: 664543.4243997112
XMax: 698098.7644457949
YMax: 1115178.7739476059
Spatial Reference: 5070
(5070)
LatestVCSWkid(0)
Initial Extent:
XMin: 181704.1284889959
YMin: 664543.4243997112
XMax: 698098.7644457949
YMax: 1115178.7739476059
Spatial Reference: 5070
(5070)
LatestVCSWkid(0)
Full Extent:
XMin: 181704.1284889959
YMin: 664543.4243997112
XMax: 698098.7644457949
YMax: 1115178.7739476059
Spatial Reference: 5070
(5070)
LatestVCSWkid(0)
Pixel Size X: 29.99852654564883
Pixel Size Y: 29.99835904326286
Band Count: 3
Pixel Type: U8
RasterFunction Infos: {"rasterFunctionInfos": [{
"name": "None",
"description": "",
"help": ""
}]}
Mensuration Capabilities: Basic
Has Histograms: false
Has Colormap: false
Has Multi Dimensions : false
Rendering Rule:
Min Scale: 0
Max Scale: 0
Copyright Text:
Service Data Type: esriImageServiceDataTypeThematic
Min Values: N/A
Max Values: N/A
Mean Values: N/A
Standard Deviation Values: N/A
Object ID Field:
Fields:
None
Default Mosaic Method: Center
Allowed Mosaic Methods:
SortField:
SortValue: null
Mosaic Operator: First
Default Compression Quality: 75
Default Resampling Method: Bilinear
Max Record Count: null
Max Image Height: 4100
Max Image Width: 15000
Max Download Image Count: null
Max Mosaic Image Count: null
Allow Raster Function: true
Allow Copy: true
Allow Analysis: true
Allow Compute TiePoints: false
Supports Statistics: false
Supports Advanced Queries: false
Use StandardizedQueries: true
Raster Type Infos:
Name: Raster Dataset
Description: Supports all ArcGIS Raster Datasets
Help:
Has Raster Attribute Table: false
Edit Fields Info: null
Ownership Based AccessControl For Rasters: null
Child Resources:
Info
Statistics
Key Properties
Legend
Raster Function Infos
Supported Operations:
Export Image
Identify
Measure
Compute Histograms
Compute Statistics Histograms
Get Samples
Compute Class Statistics
Query Boundary
Compute Pixel Location
Compute Angles
Validate
Project