View In:
ArcGIS JavaScript
ArcGIS Online Map Viewer
ArcGIS Earth
ArcMap
View Footprint In:
ArcGIS Online Map Viewer
Service Description: "This 1998 4-Band (RGBI) Imagery Product has been provided by LOSCO and is hosted as an image service by Louisiana DOTD. This service has a spatial resolution of approximately 1-Meter(s) and an extent covering statewide areas of interest. The source data for this service has horizontal coordinate system 'NAD 1983 UTM Zone 15N (EPSG: 26915)'. The source data is in MRSID format. The no data value for this data is 0. The source data bit depth is 8-Bit Unsigned. This data is not available for download. This data was provided to Louisiana DOTD by a commercial vendor and has been made publicly available.
For more information on this data please visit https://atlas.ga.lsu.edu/datasets/doqq1998
This data has been developed from the best available sources to ensure accuracy and reliability; however, the entire risk as to the quality and performance of the data is assumed by the user.
Name: Imagery/1998_LA_1M_RGBI
Description: "This 1998 4-Band (RGBI) Imagery Product has been provided by LOSCO and is hosted as an image service by Louisiana DOTD. This service has a spatial resolution of approximately 1-Meter(s) and an extent covering statewide areas of interest. The source data for this service has horizontal coordinate system 'NAD 1983 UTM Zone 15N (EPSG: 26915)'. The source data is in MRSID format. The no data value for this data is 0. The source data bit depth is 8-Bit Unsigned. This data is not available for download. This data was provided to Louisiana DOTD by a commercial vendor and has been made publicly available.
For more information on this data please visit https://atlas.ga.lsu.edu/datasets/doqq1998
This data has been developed from the best available sources to ensure accuracy and reliability; however, the entire risk as to the quality and performance of the data is assumed by the user.
Single Fused Map Cache: false
Extent:
XMin: -1.04714560613E7
YMin: 3359389.9687999976
XMax: -9879181.0613
YMax: 3904107.9687999976
Spatial Reference: 102100
(3857)
LatestVCSWkid(0)
Initial Extent:
XMin: -1.04714560613E7
YMin: 3359389.9687999976
XMax: -9879181.0613
YMax: 3904107.9687999976
Spatial Reference: 102100
(3857)
LatestVCSWkid(0)
Full Extent:
XMin: -1.04714560613E7
YMin: 3359389.9687999976
XMax: -9879181.0613
YMax: 3904107.9687999976
Spatial Reference: 102100
(3857)
LatestVCSWkid(0)
Time Info:
Start Time Field: START_DATE
End Time Field: END_DATE
Time Extent:
[1998/01/01 00:00:00 UTC, 1998/01/01 00:00:00 UTC]
Time Reference:
N/A
Pixel Size X: 1.0
Pixel Size Y: 1.0
Band Count: 4
Pixel Type: U8
RasterFunction Infos: {"rasterFunctionInfos": [{
"name": "None",
"description": "",
"help": ""
}]}
Mensuration Capabilities: Basic
Has Histograms: true
Has Colormap: false
Has Multi Dimensions : false
Rendering Rule:
Min Scale: 0
Max Scale: 0
Copyright Text: Data originally published by LSU CADGIS.
Service Data Type: esriImageServiceDataTypeGeneric
Min Values: 1, 1, 1, 1
Max Values: 254, 254, 254, 254
Mean Values: 94.80873724543241, 88.13020733438911, 66.94686926968943, 66.94686926968943
Standard Deviation Values: 44.267046007223676, 34.37458336056274, 27.404007378254924, 27.404007378254924
Object ID Field: OBJECTID
Fields:
-
OBJECTID
(
type: esriFieldTypeOID, alias: OBJECTID
)
-
Shape
(
type: esriFieldTypeGeometry, alias: Shape
)
-
Name
(
type: esriFieldTypeString, alias: Name, length: 200
)
-
Category
(
type: esriFieldTypeInteger, alias: Category
, Coded Values:
[0: Unknown]
, [1: Primary]
, [2: Overview]
, ...6 more...
)
-
CenterX
(
type: esriFieldTypeDouble, alias: CenterX
)
-
START_DATE
(
type: esriFieldTypeString, alias: Collection Date Start, length: 255
)
-
END_DATE
(
type: esriFieldTypeString, alias: Collection Date End, length: 255
)
-
CREDITS
(
type: esriFieldTypeString, alias: Credits, length: 255
)
-
RESTRICTIONS
(
type: esriFieldTypeString, alias: Restrictions, length: 255
)
Default Mosaic Method: Northwest
Allowed Mosaic Methods: NorthWest,Center,LockRaster,ByAttribute,Nadir,Viewpoint,Seamline,None
SortField:
SortValue: null
Mosaic Operator: First
Default Compression Quality: 75
Default Resampling Method: Bilinear
Max Record Count: 1000
Max Image Height: 4100
Max Image Width: 15000
Max Download Image Count: 20
Max Mosaic Image Count: 20
Allow Raster Function: true
Allow Copy: true
Allow Analysis: true
Allow Compute TiePoints: false
Supports Statistics: true
Supports Advanced Queries: true
Use StandardizedQueries: true
Raster Type Infos:
Name: Raster Dataset
Description: Supports all ArcGIS Raster Datasets
Help:
Has Raster Attribute Table: false
Edit Fields Info: null
Ownership Based AccessControl For Rasters: null
Child Resources:
Info
Histograms
Statistics
Key Properties
Legend
Raster Function Infos
Supported Operations:
Export Image
Query
Identify
Download Rasters
Measure
Compute Histograms
Compute Statistics Histograms
Get Samples
Compute Class Statistics
Query Boundary
Compute Pixel Location
Compute Angles
Validate
Project