View In:
ArcGIS JavaScript
ArcGIS Online Map Viewer
ArcGIS Earth
ArcMap
View Footprint In:
ArcGIS Online Map Viewer
Service Description: NLCD tree canopy cover is a 30 m raster geospatial dataset that is available for the conterminous United States, coastal Alaska, Hawaii, and Puerto Rico. These data contain percent tree canopy estimates, as a continuous variable, for each pixel across all land covers and types and are generated by the United States Forest Service (USFS).
Name: OpenData/TreeCanopy2016
Description: NLCD tree canopy cover is a 30 m raster geospatial dataset that is available for the conterminous United States, coastal Alaska, Hawaii, and Puerto Rico. These data contain percent tree canopy estimates, as a continuous variable, for each pixel across all land covers and types and are generated by the United States Forest Service (USFS).
Single Fused Map Cache: false
Extent:
XMin: -1.04983921641695E7
YMin: 3310702.723935267
XMax: -9819112.791322088
YMax: 3939911.530300412
Spatial Reference: 102100
(3857)
LatestVCSWkid(0)
Initial Extent:
XMin: -1.04983921641695E7
YMin: 3310702.723935267
XMax: -9819112.791322088
YMax: 3939911.530300412
Spatial Reference: 102100
(3857)
LatestVCSWkid(0)
Full Extent:
XMin: -1.04983921641695E7
YMin: 3310702.723935267
XMax: -9819112.791322088
YMax: 3939911.530300412
Spatial Reference: 102100
(3857)
LatestVCSWkid(0)
Pixel Size X: 29.99953066499191
Pixel Size Y: 29.99946630900853
Band Count: 1
Pixel Type: U8
RasterFunction Infos: {"rasterFunctionInfos": [{
"name": "None",
"description": "",
"help": ""
}]}
Mensuration Capabilities: Basic
Has Histograms: true
Has Colormap: true
Has Multi Dimensions : false
Rendering Rule:
Min Scale: 0
Max Scale: 0
Copyright Text: Imagery provided by USFS, 2021.
Service Data Type: esriImageServiceDataTypeThematic
Min Values: 4
Max Values: 100
Mean Values: 80.76633083963371
Standard Deviation Values: 21.2176417793104
Object ID Field:
Fields:
None
Default Mosaic Method: Northwest
Allowed Mosaic Methods: NorthWest,Center,LockRaster,ByAttribute,Nadir,Viewpoint,Seamline,None
SortField:
SortValue: null
Mosaic Operator: First
Default Compression Quality: 75
Default Resampling Method: Bilinear
Max Record Count: 1000
Max Image Height: 4100
Max Image Width: 15000
Max Download Image Count: 10
Max Mosaic Image Count: 20
Allow Raster Function: true
Allow Copy: true
Allow Analysis: true
Allow Compute TiePoints: false
Supports Statistics: false
Supports Advanced Queries: false
Use StandardizedQueries: true
Raster Type Infos:
Name: Raster Dataset
Description: Supports all ArcGIS Raster Datasets
Help:
Has Raster Attribute Table: true
Edit Fields Info: null
Ownership Based AccessControl For Rasters: null
Child Resources:
Info
Raster Attribute Table
Histograms
Statistics
Key Properties
Color Map
Legend
Raster Function Infos
Supported Operations:
Export Image
Query
Identify
Download Rasters
Measure
Compute Histograms
Compute Statistics Histograms
Get Samples
Compute Class Statistics
Query Boundary
Compute Pixel Location
Compute Angles
Validate
Project